BEGIN:VCALENDAR
VERSION:2.0
PRODID:-//80.67.28.17//NONSGML kigkonsult.se iCalcreator 2.10//
CALSCALE:GREGORIAN
METHOD:PUBLISH
X-WR-CALNAME:Ivan Boumans
X-WR-CALDESC:Ivan Boumans homepage
X-WR-TIMEZONE:Europe/Luxembourg
BEGIN:VTIMEZONE
TZID:Europe/Luxembourg
X-LIC-LOCATION:Europe/Luxembourg
BEGIN:STANDARD
DTSTART:20171029T020000
TZOFFSETFROM:+0200
TZOFFSETTO:+0100
RRULE:FREQ=YEARLY;BYDAY=-1SU;BYMONTH=10
TZNAME:CET
END:STANDARD
BEGIN:DAYLIGHT
DTSTART:20170326T030000
TZOFFSETFROM:+0100
TZOFFSETTO:+0200
RRULE:FREQ=YEARLY;BYDAY=-1SU;BYMONTH=3
TZNAME:CEST
END:DAYLIGHT
END:VTIMEZONE
BEGIN:VEVENT
UID:http://ivanboumans.com/?post_type=ai1ec_event&#038;p=1164&#038;instance
 _id=
DTSTAMP:20180702T210737Z
CONTACT:Musek am Syrdall / Institut Européen de Chant Choral - Luxembourg
DESCRIPTION:<p>New choir arrangements of luxembourgish songs.<em> Including
  some of my arrangements</em><br />\n<em><br />\nChouer</em>              
       Lëtzebuerger Lidderchouer</p>\n<p><em>Direktioun</em>               
 Jean-Paul Majerus</p>\n<p><em>Piano</em>                        Christophe
  Nanquette<br />\n<em>Contra-Bass</em>            Marc Demuth<br />\n<em>P
 ercussioun</em>            Boris Dinev</p>
DTSTART;TZID=Europe/Luxembourg:20170409T170000
DTEND;TZID=Europe/Luxembourg:20170409T183000
LOCATION:20 Route de Luxembourg\, 6910 Roodt-sur-Syre\, Luxembourg
SUMMARY:Lëtzebuerger Lidder nei arrangéiert 4.0
URL:http://ivanboumans.com/ai1ec_event/letzebuerger-lidder-nei-arrangeiert-
 4-0/?instance_id=
END:VEVENT
END:VCALENDAR
