BEGIN:VCALENDAR
VERSION:2.0
PRODID:-//80.67.28.17//NONSGML kigkonsult.se iCalcreator 2.10//
CALSCALE:GREGORIAN
METHOD:PUBLISH
X-WR-CALNAME:Ivan Boumans
X-WR-CALDESC:Ivan Boumans homepage
X-WR-TIMEZONE:Europe/Luxembourg
BEGIN:VTIMEZONE
TZID:Europe/Luxembourg
X-LIC-LOCATION:Europe/Luxembourg
BEGIN:STANDARD
DTSTART:20171029T020000
TZOFFSETFROM:+0200
TZOFFSETTO:+0100
RRULE:FREQ=YEARLY;BYDAY=-1SU;BYMONTH=10
TZNAME:CET
END:STANDARD
BEGIN:DAYLIGHT
DTSTART:20170326T030000
TZOFFSETFROM:+0100
TZOFFSETTO:+0200
RRULE:FREQ=YEARLY;BYDAY=-1SU;BYMONTH=3
TZNAME:CEST
END:DAYLIGHT
END:VTIMEZONE
BEGIN:VEVENT
UID:http://ivanboumans.com/?post_type=ai1ec_event&#038;p=217&#038;instance_
 id=
DTSTAMP:20180702T210746Z
CONTACT:
DESCRIPTION:<p><strong>Solistes Européens Luxembourg</strong></p>\n<p><stro
 ng>Christoph König</strong> direction</p>\n<p>Iván Boumans: <em>Meiosis</e
 m><br />\nMichael Haydn: <em>Symphonie N° 41</em><br />\nAlfred Schnittke:
  <em>Moz-Art à la Haydn.</em> <em>Spiel mit Musik</em><br />\nWolfgang A. 
 Mozart: <em>Symphonie N° 41 («Jupiter»)</em></p>\n<p><a href='http://www.p
 hilharmonie.lu/en/programm/events.php?seite=event_details&id=2564' target=
 '_blank'>http://www.philharmonie.lu/en/programm/events.php?seite=event_det
 ails&id=2564</a></p>\n<p><a href='http://sel.lu/fr/component/jcalpro/view/
 154/64' target='_blank'>http://sel.lu/fr/component/jcalpro/view/154/64</a>
 </p>
DTSTART;TZID=Europe/Luxembourg:20120917T200000
DTEND;TZID=Europe/Luxembourg:20120917T223000
LOCATION:
SUMMARY:Solistes Éuropéens – Season Opening Concert
URL:http://ivanboumans.com/ai1ec_event/solistes-europeens-season-opening-co
 ncert/?instance_id=
END:VEVENT
END:VCALENDAR
