BEGIN:VCALENDAR
VERSION:2.0
PRODID:-//80.67.28.17//NONSGML kigkonsult.se iCalcreator 2.10//
CALSCALE:GREGORIAN
METHOD:PUBLISH
X-WR-CALNAME:Ivan Boumans
X-WR-CALDESC:Ivan Boumans homepage
X-WR-TIMEZONE:Europe/Luxembourg
BEGIN:VTIMEZONE
TZID:Europe/Luxembourg
X-LIC-LOCATION:Europe/Luxembourg
BEGIN:STANDARD
DTSTART:20171029T020000
TZOFFSETFROM:+0200
TZOFFSETTO:+0100
RRULE:FREQ=YEARLY;BYDAY=-1SU;BYMONTH=10
TZNAME:CET
END:STANDARD
BEGIN:DAYLIGHT
DTSTART:20170326T030000
TZOFFSETFROM:+0100
TZOFFSETTO:+0200
RRULE:FREQ=YEARLY;BYDAY=-1SU;BYMONTH=3
TZNAME:CEST
END:DAYLIGHT
END:VTIMEZONE
BEGIN:VEVENT
UID:http://ivanboumans.com/?post_type=ai1ec_event&#038;p=1165&#038;instance
 _id=
DTSTAMP:20180702T210741Z
CONTACT:
DESCRIPTION:<p>Partie 1. Harmonie Municipale de Rollingergrund (dir. Ivan B
 oumans)</p>\n<p>Partie 2. Harmonie Municipale Mondorf-les-Bains (dir. Oliv
 ier Gravier)</p>\n<p><span style='color: #ff0000\;'>MORE DETAILS COMING SO
 ON!!</span></p>
DTSTART;TZID=Europe/Luxembourg:20170325T200000
DTEND;TZID=Europe/Luxembourg:20170325T201500
LOCATION:
SUMMARY:Concert of the Harmonie Rollingergrund & Harmonie Mondorf-les-Bains
URL:http://ivanboumans.com/ai1ec_event/concert-of-the-harmonie-rollingergru
 nd-3/?instance_id=
END:VEVENT
END:VCALENDAR
